BEGIN:VCALENDAR
VERSION:2.0
PRODID:-//End Overdose Colorado - ECPv6.6.4.2//NONSGML v1.0//EN
CALSCALE:GREGORIAN
METHOD:PUBLISH
X-WR-CALNAME:End Overdose Colorado
X-ORIGINAL-URL:https://endoverdoseco.com
X-WR-CALDESC:Events for End Overdose Colorado
REFRESH-INTERVAL;VALUE=DURATION:PT1H
X-Robots-Tag:noindex
X-PUBLISHED-TTL:PT1H
BEGIN:VTIMEZONE
TZID:America/Denver
BEGIN:DAYLIGHT
TZOFFSETFROM:-0700
TZOFFSETTO:-0600
TZNAME:MDT
DTSTART:20230312T090000
END:DAYLIGHT
BEGIN:STANDARD
TZOFFSETFROM:-0600
TZOFFSETTO:-0700
TZNAME:MST
DTSTART:20231105T080000
END:STANDARD
END:VTIMEZONE
BEGIN:VEVENT
DTSTART;TZID=America/Denver:20230818T190000
DTEND;TZID=America/Denver:20230818T210000
DTSTAMP:20260423T054842
CREATED:20230727T204051Z
LAST-MODIFIED:20230727T204051Z
UID:805-1692385200-1692392400@endoverdoseco.com
SUMMARY:Mile High Behavioral Health Movie Night
DESCRIPTION:Bring your family to our regular movie night event! We will have a large projector in the parking lot of our 4242 Delaware St. location and food for everyone to enjoy the community time together.
URL:https://endoverdoseco.com/events/mile-high-behavioral-health-movie-night/
LOCATION:Mile High Behavioral Health\, 4242 Delaware Street\, Denver\, CO\, 80216
ORGANIZER;CN="Zack Jenio":MAILTO:zjenio@mhbc.org
END:VEVENT
END:VCALENDAR