BEGIN:VCALENDAR
VERSION:2.0
PRODID:-//End Overdose Colorado - ECPv6.6.4.2//NONSGML v1.0//EN
CALSCALE:GREGORIAN
METHOD:PUBLISH
X-ORIGINAL-URL:https://endoverdoseco.com
X-WR-CALDESC:Events for End Overdose Colorado
REFRESH-INTERVAL;VALUE=DURATION:PT1H
X-Robots-Tag:noindex
X-PUBLISHED-TTL:PT1H
BEGIN:VTIMEZONE
TZID:America/Denver
BEGIN:DAYLIGHT
TZOFFSETFROM:-0700
TZOFFSETTO:-0600
TZNAME:MDT
DTSTART:20230312T090000
END:DAYLIGHT
BEGIN:STANDARD
TZOFFSETFROM:-0600
TZOFFSETTO:-0700
TZNAME:MST
DTSTART:20231105T080000
END:STANDARD
END:VTIMEZONE
BEGIN:VEVENT
DTSTART;TZID=America/Denver:20230825T160000
DTEND;TZID=America/Denver:20230825T210000
DTSTAMP:20260421T034906
CREATED:20230811T184535Z
LAST-MODIFIED:20230811T184535Z
UID:838-1692979200-1692997200@endoverdoseco.com
SUMMARY:Unity for Community (Longmont)
DESCRIPTION:We will have a memorial table with candles and a memorial board to put messages and names of those lost to be remembered. We will also have naloxone trainings and free naloxone for community members.
URL:https://endoverdoseco.com/events/unity-for-community-longmont/
LOCATION:Downtown Longmont\, 4th & Kimbark\, Downtown Longmont
ORGANIZER;CN="Trina Faatz":MAILTO:trinafaatz@gmail.com
END:VEVENT
END:VCALENDAR