BEGIN:VCALENDAR
VERSION:2.0
PRODID:-//End Overdose Colorado - ECPv6.6.4.2//NONSGML v1.0//EN
CALSCALE:GREGORIAN
METHOD:PUBLISH
X-WR-CALNAME:End Overdose Colorado
X-ORIGINAL-URL:https://endoverdoseco.com
X-WR-CALDESC:Events for End Overdose Colorado
REFRESH-INTERVAL;VALUE=DURATION:PT1H
X-Robots-Tag:noindex
X-PUBLISHED-TTL:PT1H
BEGIN:VTIMEZONE
TZID:America/Denver
BEGIN:DAYLIGHT
TZOFFSETFROM:-0700
TZOFFSETTO:-0600
TZNAME:MDT
DTSTART:20230312T090000
END:DAYLIGHT
BEGIN:STANDARD
TZOFFSETFROM:-0600
TZOFFSETTO:-0700
TZNAME:MST
DTSTART:20231105T080000
END:STANDARD
END:VTIMEZONE
BEGIN:VEVENT
DTSTART;TZID=America/Denver:20230902T090000
DTEND;TZID=America/Denver:20230902T120000
DTSTAMP:20260423T055937
CREATED:20230821T225455Z
LAST-MODIFIED:20230821T230104Z
UID:859-1693645200-1693656000@endoverdoseco.com
SUMMARY:No More Lost by Milestone Community Wellness (Sterling)
DESCRIPTION:On the morning of September 2\, we will gather at Columbine Park to share state and local recovery and harm reduction resources. Come walk the loop to honor those lost to overdose and get information on resources to help prevent more lives from being lost.
URL:https://endoverdoseco.com/events/no-more-lost-by-milestone-community-wellness-sterling-2/
LOCATION:Columbine Park\, 1212 S 3rd Avenue\, Sterling\, CO\, 80751
ORGANIZER;CN="Rebecca Stieb":MAILTO:admin@milestonecommunitywellness.org
END:VEVENT
END:VCALENDAR